BEGIN:VCALENDAR
VERSION:2.0
PRODID:-//eventon.com NONSGML v1.0//EN
CALSCALE:GREGORIAN
METHOD:PUBLISH
BEGIN:VEVENT
UID:69e992fe0ac46
DTSTAMP:20260423T033318Z
DTSTART:20161210
DTEND:20161211
LOCATION:St. Raphael-Schulen Roonstr. 1-3\,  69120 Heidelberg
SUMMARY:Grundausbildung: Szenisches Schreiben in der theaterpädagogischen Praxis (geschlossener Workshop)
DESCRIPTION:Leitung: Lorenz Hippe (Dramaturg\,  Regisseur und Theaterpädag
 oge) Der Workshop gibt eine praktische Einführung in Methoden des Szenisch
 en Schreibens: allein\,  zu zweit und in der Gruppe.  Theaterpädagogisch 
 Schaffenden begegnet das Schreiben von Theatertexten mehrfach: Als Anleiter
  von Prozessen\,  bei denendie Teilnehmer selbst Autoren szenischer Texte w
 erden\,  als Dramaturgen literarischer oder improvisierter[..]\nhttps://www
 .theaterberatung-bw.de/events/grundausbildung-szenisches-schreiben-in-der-t
 heaterpaedagogischen-praxis-geschlossener-workshop/
URL:https://www.theaterberatung-bw.de/events/grundausbildung-szenisches-schreiben-in-der-theaterpaedagogischen-praxis-geschlossener-workshop/
END:VEVENT
END:VCALENDAR