BEGIN:VCALENDAR
VERSION:2.0
PRODID:-//eventon.com NONSGML v1.0//EN
CALSCALE:GREGORIAN
METHOD:PUBLISH
BEGIN:VEVENT
UID:69e743d4f332d
DTSTAMP:20260421T093100Z
DTSTART:20160506T060000Z
DTEND:20160506T100000Z
LOCATION:Comeniusschule Schwetzingen
SUMMARY:Projektbegleitung TSB an Comeniusschule Schwetzingen zu "Die KÃ¶nigin der Farben" (nicht Ã¶ffentlich)
DESCRIPTION:Projektbegleitung TSB an Comeniusschule Schwetzingen zu "Die KÃ
 ¶nigin der Farben" (nicht Ã¶ffentlich)\nhttps://www.theaterberatung-bw.de/e
 vents/projektbegleitung-tsb-an-comeniusschule-schwetzingen-zu-die-koenigin-
 der-farben-2/
URL:https://www.theaterberatung-bw.de/events/projektbegleitung-tsb-an-comeniusschule-schwetzingen-zu-die-koenigin-der-farben-2/
END:VEVENT
END:VCALENDAR