BEGIN:VCALENDAR
VERSION:2.0
PRODID:-//eventon.com NONSGML v1.0//EN
CALSCALE:GREGORIAN
METHOD:PUBLISH
BEGIN:VEVENT
UID:69e7ec7b04e87
DTSTAMP:20260421T213035Z
DTSTART:20161205T104500Z
DTEND:20161205T120500Z
LOCATION:Kerschensteiner Gemeinschaftsschule Mannheim
SUMMARY:Projekt TSB an Kerschensteiner Gemeinschaftsschule Mannheim (nicht öffentlich)
DESCRIPTION:Projekt TSB an Kerschensteiner Gemeinschaftsschule Mannheim (ni
 cht öffentlich)\nhttps://www.theaterberatung-bw.de/events/projekt-tsb-an-k
 erschensteiner-gemeinschaftsschule-mannheim-nicht-oeffentlich/var/ri-10.l-L
 1
URL:https://www.theaterberatung-bw.de/events/projekt-tsb-an-kerschensteiner-gemeinschaftsschule-mannheim-nicht-oeffentlich/var/ri-10.l-L1
END:VEVENT
END:VCALENDAR