BEGIN:VCALENDAR
VERSION:2.0
PRODID:-//eventon.com NONSGML v1.0//EN
CALSCALE:GREGORIAN
METHOD:PUBLISH
BEGIN:VEVENT
UID:69e73de3240d8
DTSTAMP:20260421T090539Z
DTSTART:20180514T180000Z
DTEND:20180514T200000Z
LOCATION:Haus der Jugend Römerstraße 87\,  Heidelberg
SUMMARY:Montagsreihe: Wie geht Regie? Vom Text zur Szene
DESCRIPTION:Natascha Kalmbach\,  Leiterin Junges Theater der Stadt HD\,  R
 egisseurin Teilnahmegebühr 5 €\,  vor Ort zu entrichten Verbindliche An
 meldung bis 07.05. an info@theaterberatung-bw.de! Mehr Informationen&#8230;
 \nhttps://www.theaterberatung-bw.de/events/montagsreihe-wie-geht-regie-vom-
 text-zur-szene/
URL:https://www.theaterberatung-bw.de/events/montagsreihe-wie-geht-regie-vom-text-zur-szene/
END:VEVENT
END:VCALENDAR