BEGIN:VCALENDAR
VERSION:2.0
PRODID:-//eventon.com NONSGML v1.0//EN
CALSCALE:GREGORIAN
METHOD:PUBLISH
BEGIN:VEVENT
UID:69eb95302b7a1
DTSTAMP:20260424T160712Z
DTSTART:20191029
DTEND:20191030
LOCATION:Jugendherberge Schloss Altleiningen
SUMMARY:Grundausbildung: Inszenierungspraxis 1&2 (geschlossener Workshop)
DESCRIPTION:Leitung: Timo Bamberger\,  Marcus Coenen Schwerpunkte des Kurs
 es »Inszenierungspraxis 1« werden vor allem Textarbeit\,  Dramaturgie\,  
 Textanalyse\,  Szenenanalyse\,  Handlungseinheit\,  Spielmaterial\,  Kostü
 m\,  Bühne sein. Mit ersten szenischen Improvisationen und der Suche nach 
 ästhetischen Formen wird die Brücke zum Kurs »Inszenierungspraxis 2« ge
 baut. Das Ziel von »Inszenierungspraxis 2« ist die künstlerische Erarbei
 tung einer (Abschluss-)[..]\nhttps://www.theaterberatung-bw.de/events/grund
 ausbildung-inszenierungspraxis-12-geschlossener-workshop-2/
URL:https://www.theaterberatung-bw.de/events/grundausbildung-inszenierungspraxis-12-geschlossener-workshop-2/
END:VEVENT
END:VCALENDAR