BEGIN:VCALENDAR
VERSION:2.0
PRODID:-//eventon.com NONSGML v1.0//EN
CALSCALE:GREGORIAN
METHOD:PUBLISH
BEGIN:VEVENT
UID:69e9e0126c20c
DTSTAMP:20260423T090210Z
DTSTART:20191021T180000Z
DTEND:20191021T200000Z
LOCATION:Probebühne Carl Carl-Bosch-Straße 4 69115 Heidelberg\,  Weststadt
SUMMARY:Ohne Rolle auf die Bühne - Wie viel Mut biografisches Theater eigentlich kostet
DESCRIPTION:Katharina Diedler leitet den Theaterbereich am Haus der Jugend 
 Heidelberg und erarbeitet mit Kindern und Jugendlichen zwischen 3 und 20 Ja
 hren in verschiedenen Gruppen jährlich ein Stück von und mit den Schüler
 *innen. Dabei stehen die Teilnehmer*innen und deren Hintergründe\,  Intere
 ssen und Geschichten im Fokus. Im Workshop vermittelt praktische Einblicke 
 in[..]\nhttps://www.theaterberatung-bw.de/events/ohne-rolle-auf-die-buehne-
 wie-viel-mut-biografisches-theater-eigentlich-kostet/
URL:https://www.theaterberatung-bw.de/events/ohne-rolle-auf-die-buehne-wie-viel-mut-biografisches-theater-eigentlich-kostet/
END:VEVENT
END:VCALENDAR