BEGIN:VCALENDAR
VERSION:2.0
PRODID:-//eventon.com NONSGML v1.0//EN
CALSCALE:GREGORIAN
METHOD:PUBLISH
BEGIN:VEVENT
UID:69e6104dc450d
DTSTAMP:20260420T113853Z
DTSTART:20191216T190000Z
DTEND:20191216T210000Z
LOCATION:Probebühne Carl Carl-Bosch-Straße 4 69115 Heidelberg\,  Weststadt
SUMMARY:Vom Interview zur Szene - Forschende Theatermethoden mit Jugendlichen
DESCRIPTION:Umfragen auf der Straße\,  Experten-Interviews oder ein Selbst
 versuch – mit diesen Methoden kann ein Thema von einer Theatergruppe in a
 llen Facetten erforscht werden. So ist nicht nur die eigene Phantasie Ausga
 ngspunkt für ein selbst entwickeltes Stück\,  sondern vor allem die indiv
 iduelle Recherche. Das Ergebnis ist bestenfalls eine Fülle an Erkenntnisse
 n[..]\nhttps://www.theaterberatung-bw.de/events/vom-interview-zur-szene-for
 schende-theatermethoden-mit-jugendlichen/
URL:https://www.theaterberatung-bw.de/events/vom-interview-zur-szene-forschende-theatermethoden-mit-jugendlichen/
END:VEVENT
END:VCALENDAR