BEGIN:VCALENDAR
VERSION:2.0
PRODID:-//eventon.com NONSGML v1.0//EN
CALSCALE:GREGORIAN
METHOD:PUBLISH
BEGIN:VEVENT
UID:69e73e8109fb8
DTSTAMP:20260421T090817Z
DTSTART:20201017T120000Z
DTEND:20201017T153000Z
LOCATION:TSB per Internet
SUMMARY:Werkstatt.Theater digital Kurs 2
DESCRIPTION:„Erzählt mir eine Geschichte!“ Eine Online-Werkstatt Leitu
 ng: Romy Fröhlich (Theaterpädagogin\,  &#8211; Cottbus) In diesem Worksho
 p geht es in der Hauptsache um Geschichten. Und darum\,  diese auf die Büh
 ne zu bringen. Ausgehend von Märchen und Erzählungen aus der Kinderlitera
 tur machen wir uns gemeinsam auf den Weg zu einem Theaterstück für Kinder
 [..]\nhttps://www.theaterberatung-bw.de/events/werkstatt-theater-digital-ku
 rs-2/
URL:https://www.theaterberatung-bw.de/events/werkstatt-theater-digital-kurs-2/
END:VEVENT
END:VCALENDAR