BEGIN:VCALENDAR
VERSION:2.0
PRODID:-//eventon.com NONSGML v1.0//EN
CALSCALE:GREGORIAN
METHOD:PUBLISH
BEGIN:VEVENT
UID:69e9f95dc1f46
DTSTAMP:20260423T105005Z
DTSTART:20211220T190000Z
DTEND:20211220T210000Z
LOCATION:TSB per Internet
SUMMARY:Workshop.Theater #4
DESCRIPTION:Montagsreihe 2021/22 Zip-Zap-Zooooom! TheaterpÃ¤dagogik im digi
 talen RaumÂ  Wir beschÃ¤ftigen uns mit der Herausforderung\,  die interakti
 ve QualitÃ¤t von Theater in die virtuelle Welt zu Ã¼bersetzen. Wie geht Imp
 rovisation und Arbeit mit Raum und Ensemble\,  wenn der Raum nicht mehr dre
 idimensional ist und nicht gemeinsam erlebt werden kann?Â Â  Wir erkunden Ã
 ¤sthetische und[..]\nhttps://www.theaterberatung-bw.de/events/workshop-thea
 ter-4-2/
URL:https://www.theaterberatung-bw.de/events/workshop-theater-4-2/
END:VEVENT
END:VCALENDAR