BEGIN:VCALENDAR
VERSION:2.0
PRODID:-//eventon.com NONSGML v1.0//EN
CALSCALE:GREGORIAN
METHOD:PUBLISH
BEGIN:VEVENT
UID:69ed79aa93f2e
DTSTAMP:20260426T023418Z
DTSTART:20250331T170000Z
DTEND:20250331T200000Z
LOCATION:Haus der Jugend Römerstraße 87\,  Heidelberg
SUMMARY:2024/25 Workshop.Theater # 5
DESCRIPTION:Montagsreihe 2024/25 Die Kraft der Stimme – Bewusste Wahrneh
 mung und Entfaltung des vollen Stimmpotentials  Nach einer kurzen Einführ
 ung in die Physiologie der Stimme werden wir die verschiedenen Qualitäten 
 und Resonanzräume unserer persönlichen Stimme erforschen. Dabei nutzen wi
 r sowohl Übungen aus bekannten Stimmtrainingsmethoden wie der Linklater-Me
 thode und der Alexander-Technik als auch unsere[..]\nhttps://www.theaterber
 atung-bw.de/events/2024-25-workshop-theater-5/
URL:https://www.theaterberatung-bw.de/events/2024-25-workshop-theater-5/
END:VEVENT
END:VCALENDAR